BEGIN:VCALENDAR
VERSION:2.0
PRODID:-//Tukios.com/
BEGIN:VEVENT
UID:d36e6908-5ef3-4bfc-b209-6bdc89a2b9e7@www.ccshepherd.com
DTSTAMP:20260419T220015Z
DTSTART:20260422T130000Z
DTEND:20260422T133000Z
SUMMARY:Celebration of Life
DESCRIPTION:
URL:https://www.ccshepherd.com/obituaries/william-cicchese
LOCATION: 134 Pleasant St.  Weymouth MA 02190
GEO:42.1748842;-70.9498531
END:VEVENT
END:VCALENDAR