BEGIN:VCALENDAR
VERSION:2.0
PRODID:-//Tukios.com/
BEGIN:VEVENT
UID:c6642e07-3d56-4d5b-bdf9-628c55d679d6@www.ccshepherd.com
DTSTAMP:20260419T220904Z
DTSTART:20260422T140000Z
DTEND:20260422T150000Z
SUMMARY:Mass
DESCRIPTION:
URL:https://www.ccshepherd.com/obituaries/william-cicchese
LOCATION:St. Francis Xavier Church 234 Pleasant Street  Weymouth MA 02190
GEO:42.1782002;-70.9479588
END:VEVENT
END:VCALENDAR