BEGIN:VCALENDAR
VERSION:2.0
PRODID:-//Tukios.com/
BEGIN:VEVENT
UID:c2ca739c-69cc-4ca4-b75a-64aa373da3a8@www.ccshepherd.com
DTSTAMP:20260419T220117Z
DTSTART:20260421T200000Z
DTEND:20260421T230000Z
SUMMARY:Visitation
DESCRIPTION:
URL:https://www.ccshepherd.com/obituaries/william-cicchese
LOCATION:C. C. Shepherd Funeral Home 134 Pleasant St.  Weymouth MA 02190
GEO:42.1748842;-70.9498531
END:VEVENT
END:VCALENDAR