BEGIN:VCALENDAR
VERSION:2.0
PRODID:-//Tukios.com/
BEGIN:VEVENT
UID:558923e3-3acc-44f6-bbc6-4837016deaeb@www.ccshepherd.com
DTSTAMP:20260421T002408Z
DTSTART:20260427T150000Z
DTEND:20260427T153000Z
SUMMARY:Celebration of Life
DESCRIPTION:
URL:https://www.ccshepherd.com/obituaries/lisa-campbell
LOCATION: 134 Pleasant St.  South Weymouth MA 02190
GEO:42.1748569;-70.949882
END:VEVENT
END:VCALENDAR