BEGIN:VCALENDAR
VERSION:2.0
PRODID:-//Tukios.com/
BEGIN:VEVENT
UID:e656e86a-b237-4bc4-acee-4c8d521d2c52@www.ccshepherd.com
DTSTAMP:20260421T001501Z
DTSTART:20260427T140000Z
DTEND:20260427T150000Z
SUMMARY:Visitation
DESCRIPTION:
URL:https://www.ccshepherd.com/obituaries/lisa-campbell
LOCATION: 134 Pleasant St.  South Weymouth MA 02190
GEO:42.1748569;-70.949882
END:VEVENT
END:VCALENDAR