BEGIN:VCALENDAR
VERSION:2.0
PRODID:-//Tukios.com/
BEGIN:VEVENT
UID:07c3a660-6527-4472-90dd-768a96f6762c@www.ccshepherd.com
DTSTAMP:20260421T001211Z
DTSTART:20260501T160000Z
DTEND:20260501T163000Z
SUMMARY:Graveside Service
DESCRIPTION:
URL:https://www.ccshepherd.com/obituaries/irving-walling
LOCATION:Old North Cemetery 126 Norton St  North Weymouth MA 02191
GEO:42.2335756;-70.9473522
END:VEVENT
END:VCALENDAR