BEGIN:VCALENDAR
VERSION:2.0
PRODID:-//Tukios.com/
BEGIN:VEVENT
UID:79864e3e-8c9d-41d4-ab98-2422d5d5bcd3@www.ccshepherd.com
DTSTAMP:20260421T002449Z
DTSTART:20260501T143000Z
DTEND:20260501T153000Z
SUMMARY:Memorial Service
DESCRIPTION:
URL:https://www.ccshepherd.com/obituaries/irving-walling
LOCATION:St. Jerome Parish 632 Bridge Street  Weymouth MA 02191
GEO:42.244723;-70.9411195
END:VEVENT
END:VCALENDAR